BEGIN:VCALENDAR
VERSION:2.0
PRODID:-// - ECPv6.15.20//NONSGML v1.0//EN
CALSCALE:GREGORIAN
METHOD:PUBLISH
X-ORIGINAL-URL:https://www.deltachildandyouth.ca
X-WR-CALDESC:Events for 
REFRESH-INTERVAL;VALUE=DURATION:PT1H
X-Robots-Tag:noindex
X-PUBLISHED-TTL:PT1H
BEGIN:VTIMEZONE
TZID:America/Vancouver
BEGIN:DAYLIGHT
TZOFFSETFROM:-0800
TZOFFSETTO:-0700
TZNAME:PDT
DTSTART:20250309T100000
END:DAYLIGHT
BEGIN:STANDARD
TZOFFSETFROM:-0700
TZOFFSETTO:-0800
TZNAME:PST
DTSTART:20251102T090000
END:STANDARD
BEGIN:DAYLIGHT
TZOFFSETFROM:-0800
TZOFFSETTO:-0700
TZNAME:PDT
DTSTART:20260308T100000
END:DAYLIGHT
BEGIN:STANDARD
TZOFFSETFROM:-0700
TZOFFSETTO:-0800
TZNAME:PST
DTSTART:20261101T090000
END:STANDARD
BEGIN:DAYLIGHT
TZOFFSETFROM:-0800
TZOFFSETTO:-0700
TZNAME:PDT
DTSTART:20270314T100000
END:DAYLIGHT
BEGIN:STANDARD
TZOFFSETFROM:-0700
TZOFFSETTO:-0800
TZNAME:PST
DTSTART:20271107T090000
END:STANDARD
END:VTIMEZONE
BEGIN:VEVENT
DTSTART;TZID=America/Vancouver:20260324T123000
DTEND;TZID=America/Vancouver:20260324T143000
DTSTAMP:20260422T035825
CREATED:20250903T221646Z
LAST-MODIFIED:20250903T221646Z
UID:10009599-1774355400-1774362600@www.deltachildandyouth.ca
SUMMARY:Child and Parent/Caregiver Drop-In
DESCRIPTION:Child and parent or caregiver drop in. Developmentally stimulating activities for children under the age of 6.
URL:https://www.deltachildandyouth.ca/event/child-and-parent-caregiver-drop-in/2026-03-24/
LOCATION:North Delta Family  Resource Centre\, 11451 90 ave(Gibson's Elementary)\, N Delta
END:VEVENT
BEGIN:VEVENT
DTSTART;TZID=America/Vancouver:20260324T093000
DTEND;TZID=America/Vancouver:20260324T113000
DTSTAMP:20260422T035825
CREATED:20250908T180823Z
LAST-MODIFIED:20260203T224820Z
UID:10007721-1774344600-1774351800@www.deltachildandyouth.ca
SUMMARY:Family Place
DESCRIPTION:Developmentally stimulating programs for parents and caregivers and children under 6. February 12th closed\, so can attend the Valentine’s Day event instead\, from 9:30am to 12pm\, at North Delta Recreation Centre.
URL:https://www.deltachildandyouth.ca/event/family-place/2026-03-24/
LOCATION:North Delta Family  Resource Centre\, 11451 90 ave(Gibson's Elementary)\, N Delta
END:VEVENT
BEGIN:VEVENT
DTSTART;TZID=America/Vancouver:20260323T123000
DTEND;TZID=America/Vancouver:20260323T143000
DTSTAMP:20260422T035825
CREATED:20250903T221646Z
LAST-MODIFIED:20250903T221646Z
UID:10009598-1774269000-1774276200@www.deltachildandyouth.ca
SUMMARY:Child and Parent/Caregiver Drop-In
DESCRIPTION:Child and parent or caregiver drop in. Developmentally stimulating activities for children under the age of 6.
URL:https://www.deltachildandyouth.ca/event/child-and-parent-caregiver-drop-in/2026-03-23/
LOCATION:North Delta Family  Resource Centre\, 11451 90 ave(Gibson's Elementary)\, N Delta
END:VEVENT
BEGIN:VEVENT
DTSTART;TZID=America/Vancouver:20260323T093000
DTEND;TZID=America/Vancouver:20260323T113000
DTSTAMP:20260422T035825
CREATED:20250908T180823Z
LAST-MODIFIED:20260203T224820Z
UID:10007720-1774258200-1774265400@www.deltachildandyouth.ca
SUMMARY:Family Place
DESCRIPTION:Developmentally stimulating programs for parents and caregivers and children under 6. February 12th closed\, so can attend the Valentine’s Day event instead\, from 9:30am to 12pm\, at North Delta Recreation Centre.
URL:https://www.deltachildandyouth.ca/event/family-place/2026-03-23/
LOCATION:North Delta Family  Resource Centre\, 11451 90 ave(Gibson's Elementary)\, N Delta
END:VEVENT
BEGIN:VEVENT
DTSTART;TZID=America/Vancouver:20260322T123000
DTEND;TZID=America/Vancouver:20260322T143000
DTSTAMP:20260422T035825
CREATED:20250903T221646Z
LAST-MODIFIED:20250903T221646Z
UID:10009597-1774182600-1774189800@www.deltachildandyouth.ca
SUMMARY:Child and Parent/Caregiver Drop-In
DESCRIPTION:Child and parent or caregiver drop in. Developmentally stimulating activities for children under the age of 6.
URL:https://www.deltachildandyouth.ca/event/child-and-parent-caregiver-drop-in/2026-03-22/
LOCATION:North Delta Family  Resource Centre\, 11451 90 ave(Gibson's Elementary)\, N Delta
END:VEVENT
BEGIN:VEVENT
DTSTART;TZID=America/Vancouver:20260322T093000
DTEND;TZID=America/Vancouver:20260322T113000
DTSTAMP:20260422T035825
CREATED:20250908T180823Z
LAST-MODIFIED:20260203T224820Z
UID:10007719-1774171800-1774179000@www.deltachildandyouth.ca
SUMMARY:Family Place
DESCRIPTION:Developmentally stimulating programs for parents and caregivers and children under 6. February 12th closed\, so can attend the Valentine’s Day event instead\, from 9:30am to 12pm\, at North Delta Recreation Centre.
URL:https://www.deltachildandyouth.ca/event/family-place/2026-03-22/
LOCATION:North Delta Family  Resource Centre\, 11451 90 ave(Gibson's Elementary)\, N Delta
END:VEVENT
BEGIN:VEVENT
DTSTART;TZID=America/Vancouver:20260321T123000
DTEND;TZID=America/Vancouver:20260321T143000
DTSTAMP:20260422T035825
CREATED:20250903T221646Z
LAST-MODIFIED:20250903T221646Z
UID:10009596-1774096200-1774103400@www.deltachildandyouth.ca
SUMMARY:Child and Parent/Caregiver Drop-In
DESCRIPTION:Child and parent or caregiver drop in. Developmentally stimulating activities for children under the age of 6.
URL:https://www.deltachildandyouth.ca/event/child-and-parent-caregiver-drop-in/2026-03-21/
LOCATION:North Delta Family  Resource Centre\, 11451 90 ave(Gibson's Elementary)\, N Delta
END:VEVENT
END:VCALENDAR