BEGIN:VCALENDAR
VERSION:2.0
PRODID:-// - ECPv6.15.20//NONSGML v1.0//EN
CALSCALE:GREGORIAN
METHOD:PUBLISH
X-ORIGINAL-URL:https://www.deltachildandyouth.ca
X-WR-CALDESC:Events for 
REFRESH-INTERVAL;VALUE=DURATION:PT1H
X-Robots-Tag:noindex
X-PUBLISHED-TTL:PT1H
BEGIN:VTIMEZONE
TZID:America/Vancouver
BEGIN:DAYLIGHT
TZOFFSETFROM:-0800
TZOFFSETTO:-0700
TZNAME:PDT
DTSTART:20250309T100000
END:DAYLIGHT
BEGIN:STANDARD
TZOFFSETFROM:-0700
TZOFFSETTO:-0800
TZNAME:PST
DTSTART:20251102T090000
END:STANDARD
BEGIN:DAYLIGHT
TZOFFSETFROM:-0800
TZOFFSETTO:-0700
TZNAME:PDT
DTSTART:20260308T100000
END:DAYLIGHT
BEGIN:STANDARD
TZOFFSETFROM:-0700
TZOFFSETTO:-0800
TZNAME:PST
DTSTART:20261101T090000
END:STANDARD
BEGIN:DAYLIGHT
TZOFFSETFROM:-0800
TZOFFSETTO:-0700
TZNAME:PDT
DTSTART:20270314T100000
END:DAYLIGHT
BEGIN:STANDARD
TZOFFSETFROM:-0700
TZOFFSETTO:-0800
TZNAME:PST
DTSTART:20271107T090000
END:STANDARD
END:VTIMEZONE
BEGIN:VEVENT
DTSTART;TZID=America/Vancouver:20260327T123000
DTEND;TZID=America/Vancouver:20260327T143000
DTSTAMP:20260425T072920
CREATED:20250903T221646Z
LAST-MODIFIED:20250903T221646Z
UID:10009602-1774614600-1774621800@www.deltachildandyouth.ca
SUMMARY:Child and Parent/Caregiver Drop-In
DESCRIPTION:Child and parent or caregiver drop in. Developmentally stimulating activities for children under the age of 6.
URL:https://www.deltachildandyouth.ca/event/child-and-parent-caregiver-drop-in/2026-03-27/
LOCATION:North Delta Family  Resource Centre\, 11451 90 ave(Gibson's Elementary)\, N Delta
END:VEVENT
BEGIN:VEVENT
DTSTART;TZID=America/Vancouver:20260327T093000
DTEND;TZID=America/Vancouver:20260327T113000
DTSTAMP:20260425T072920
CREATED:20250908T180823Z
LAST-MODIFIED:20260203T224820Z
UID:10007724-1774603800-1774611000@www.deltachildandyouth.ca
SUMMARY:Family Place
DESCRIPTION:Developmentally stimulating programs for parents and caregivers and children under 6. February 12th closed\, so can attend the Valentine’s Day event instead\, from 9:30am to 12pm\, at North Delta Recreation Centre.
URL:https://www.deltachildandyouth.ca/event/family-place/2026-03-27/
LOCATION:North Delta Family  Resource Centre\, 11451 90 ave(Gibson's Elementary)\, N Delta
END:VEVENT
BEGIN:VEVENT
DTSTART;TZID=America/Vancouver:20260326T123000
DTEND;TZID=America/Vancouver:20260326T143000
DTSTAMP:20260425T072920
CREATED:20250903T221646Z
LAST-MODIFIED:20250903T221646Z
UID:10009601-1774528200-1774535400@www.deltachildandyouth.ca
SUMMARY:Child and Parent/Caregiver Drop-In
DESCRIPTION:Child and parent or caregiver drop in. Developmentally stimulating activities for children under the age of 6.
URL:https://www.deltachildandyouth.ca/event/child-and-parent-caregiver-drop-in/2026-03-26/
LOCATION:North Delta Family  Resource Centre\, 11451 90 ave(Gibson's Elementary)\, N Delta
END:VEVENT
BEGIN:VEVENT
DTSTART;TZID=America/Vancouver:20260326T093000
DTEND;TZID=America/Vancouver:20260326T113000
DTSTAMP:20260425T072920
CREATED:20250908T180823Z
LAST-MODIFIED:20260203T224820Z
UID:10007723-1774517400-1774524600@www.deltachildandyouth.ca
SUMMARY:Family Place
DESCRIPTION:Developmentally stimulating programs for parents and caregivers and children under 6. February 12th closed\, so can attend the Valentine’s Day event instead\, from 9:30am to 12pm\, at North Delta Recreation Centre.
URL:https://www.deltachildandyouth.ca/event/family-place/2026-03-26/
LOCATION:North Delta Family  Resource Centre\, 11451 90 ave(Gibson's Elementary)\, N Delta
END:VEVENT
BEGIN:VEVENT
DTSTART;TZID=America/Vancouver:20260325T123000
DTEND;TZID=America/Vancouver:20260325T143000
DTSTAMP:20260425T072920
CREATED:20250903T221646Z
LAST-MODIFIED:20250903T221646Z
UID:10009600-1774441800-1774449000@www.deltachildandyouth.ca
SUMMARY:Child and Parent/Caregiver Drop-In
DESCRIPTION:Child and parent or caregiver drop in. Developmentally stimulating activities for children under the age of 6.
URL:https://www.deltachildandyouth.ca/event/child-and-parent-caregiver-drop-in/2026-03-25/
LOCATION:North Delta Family  Resource Centre\, 11451 90 ave(Gibson's Elementary)\, N Delta
END:VEVENT
BEGIN:VEVENT
DTSTART;TZID=America/Vancouver:20260325T093000
DTEND;TZID=America/Vancouver:20260325T113000
DTSTAMP:20260425T072920
CREATED:20250908T180823Z
LAST-MODIFIED:20260203T224820Z
UID:10007722-1774431000-1774438200@www.deltachildandyouth.ca
SUMMARY:Family Place
DESCRIPTION:Developmentally stimulating programs for parents and caregivers and children under 6. February 12th closed\, so can attend the Valentine’s Day event instead\, from 9:30am to 12pm\, at North Delta Recreation Centre.
URL:https://www.deltachildandyouth.ca/event/family-place/2026-03-25/
LOCATION:North Delta Family  Resource Centre\, 11451 90 ave(Gibson's Elementary)\, N Delta
END:VEVENT
BEGIN:VEVENT
DTSTART;TZID=America/Vancouver:20260325T093000
DTEND;TZID=America/Vancouver:20260325T103000
DTSTAMP:20260425T072920
CREATED:20250903T223252Z
LAST-MODIFIED:20260203T224651Z
UID:10007276-1774431000-1774434600@www.deltachildandyouth.ca
SUMMARY:Family Place - Weekly Drop In Program
DESCRIPTION:Parent and caregiver drop in programs for children under the age of six.
URL:https://www.deltachildandyouth.ca/event/family-place-weekly-drop-in-program/2026-03-25/
LOCATION:North Delta Family  Resource Centre\, 11451 90 ave(Gibson's Elementary)\, N Delta
END:VEVENT
END:VCALENDAR